BEGIN:VCALENDAR
VERSION:2.0
PRODID:-//ORG Corp - ECPv6.15.20//NONSGML v1.0//EN
CALSCALE:GREGORIAN
METHOD:PUBLISH
X-WR-CALNAME:ORG Corp
X-ORIGINAL-URL:https://www.orgcorp.com
X-WR-CALDESC:Events for ORG Corp
REFRESH-INTERVAL;VALUE=DURATION:PT1H
X-Robots-Tag:noindex
X-PUBLISHED-TTL:PT1H
BEGIN:VTIMEZONE
TZID:America/Indiana/Indianapolis
BEGIN:DAYLIGHT
TZOFFSETFROM:-0500
TZOFFSETTO:-0400
TZNAME:EDT
DTSTART:20230312T070000
END:DAYLIGHT
BEGIN:STANDARD
TZOFFSETFROM:-0400
TZOFFSETTO:-0500
TZNAME:EST
DTSTART:20231105T060000
END:STANDARD
BEGIN:DAYLIGHT
TZOFFSETFROM:-0500
TZOFFSETTO:-0400
TZNAME:EDT
DTSTART:20240310T070000
END:DAYLIGHT
BEGIN:STANDARD
TZOFFSETFROM:-0400
TZOFFSETTO:-0500
TZNAME:EST
DTSTART:20241103T060000
END:STANDARD
BEGIN:DAYLIGHT
TZOFFSETFROM:-0500
TZOFFSETTO:-0400
TZNAME:EDT
DTSTART:20250309T070000
END:DAYLIGHT
BEGIN:STANDARD
TZOFFSETFROM:-0400
TZOFFSETTO:-0500
TZNAME:EST
DTSTART:20251102T060000
END:STANDARD
END:VTIMEZONE
BEGIN:VEVENT
DTSTART;TZID=America/Indiana/Indianapolis:20241002T140000
DTEND;TZID=America/Indiana/Indianapolis:20241002T143000
DTSTAMP:20260423T063203
CREATED:20241029T172513Z
LAST-MODIFIED:20250311T124817Z
UID:1609-1727877600-1727879400@www.orgcorp.com
SUMMARY:Annuities with Death Benefit Enhancers
DESCRIPTION:Join Caleb Smith of ORG as he walks through the world of Annuities with Death Benefit Enhancers. This is a topic that we are seeing more and more interest in lately and want to make sure that you are up-to-date on what is going on in the industry. \nThis webinar is concluded\, we have a recording of the webinar click here to view.
URL:https://www.orgcorp.com/event/annuities-with-death-benefit-enhancers/
ATTACH;FMTTYPE=image/png:https://www.orgcorp.com/wp-content/uploads/2025/01/Annuity.png
END:VEVENT
BEGIN:VEVENT
DTSTART;TZID=America/Indiana/Indianapolis:20241023T140000
DTEND;TZID=America/Indiana/Indianapolis:20241023T143000
DTSTAMP:20260423T063203
CREATED:20241029T172816Z
LAST-MODIFIED:20250311T124601Z
UID:1613-1729692000-1729693800@www.orgcorp.com
SUMMARY:Term LifExtender Program with ORG
DESCRIPTION:Join us as we discuss the Term LifExtender Program. This program can allow your clients with existing term life coverage to extend that coverage for 5 or 10 years. This platform is perfect for those clients that still need the coverage\, but may not be able to afford the sizable premium increase that comes with a traditional conversion. We will discuss the ins and outs of the program and how it can be beneficial to your clients and to you as the agent. \nThis webinar is concluded\, we have a recording of the webinar click here to view.
URL:https://www.orgcorp.com/event/term-lifextender-program-with-org/
ATTACH;FMTTYPE=image/png:https://www.orgcorp.com/wp-content/uploads/2025/01/Life.png
END:VEVENT
BEGIN:VEVENT
DTSTART;TZID=America/Indiana/Indianapolis:20241030T140000
DTEND;TZID=America/Indiana/Indianapolis:20241030T143000
DTSTAMP:20260423T063203
CREATED:20241101T150137Z
LAST-MODIFIED:20250311T124522Z
UID:1629-1730296800-1730298600@www.orgcorp.com
SUMMARY:The OneAmerica Difference
DESCRIPTION:November is Long Term Care Awareness Month. OneAmerica is going to discuss the ins and outs of their Long-Term Care and Asset Care Services. \nThis webinar is concluded\, we have a recording of the webinar click here to view.
URL:https://www.orgcorp.com/event/the-oneamerica-difference/
ATTACH;FMTTYPE=image/png:https://www.orgcorp.com/wp-content/uploads/2025/01/Screenshot-2025-03-06-113610.png
END:VEVENT
END:VCALENDAR