BEGIN:VCALENDAR
VERSION:2.0
PRODID:-//ORG Corp - ECPv6.15.20//NONSGML v1.0//EN
CALSCALE:GREGORIAN
METHOD:PUBLISH
X-ORIGINAL-URL:https://www.orgcorp.com
X-WR-CALDESC:Events for ORG Corp
REFRESH-INTERVAL;VALUE=DURATION:PT1H
X-Robots-Tag:noindex
X-PUBLISHED-TTL:PT1H
BEGIN:VTIMEZONE
TZID:America/Indiana/Indianapolis
BEGIN:DAYLIGHT
TZOFFSETFROM:-0500
TZOFFSETTO:-0400
TZNAME:EDT
DTSTART:20240310T070000
END:DAYLIGHT
BEGIN:STANDARD
TZOFFSETFROM:-0400
TZOFFSETTO:-0500
TZNAME:EST
DTSTART:20241103T060000
END:STANDARD
BEGIN:DAYLIGHT
TZOFFSETFROM:-0500
TZOFFSETTO:-0400
TZNAME:EDT
DTSTART:20250309T070000
END:DAYLIGHT
BEGIN:STANDARD
TZOFFSETFROM:-0400
TZOFFSETTO:-0500
TZNAME:EST
DTSTART:20251102T060000
END:STANDARD
BEGIN:DAYLIGHT
TZOFFSETFROM:-0500
TZOFFSETTO:-0400
TZNAME:EDT
DTSTART:20260308T070000
END:DAYLIGHT
BEGIN:STANDARD
TZOFFSETFROM:-0400
TZOFFSETTO:-0500
TZNAME:EST
DTSTART:20261101T060000
END:STANDARD
END:VTIMEZONE
BEGIN:VEVENT
DTSTART;TZID=America/Indiana/Indianapolis:20250305T140000
DTEND;TZID=America/Indiana/Indianapolis:20250305T143000
DTSTAMP:20260425T140653
CREATED:20250311T170559Z
LAST-MODIFIED:20250311T170559Z
UID:1789-1741183200-1741185000@www.orgcorp.com
SUMMARY:Symetra's Swift Process
DESCRIPTION:Join us as we take a look at Symetra’s Swift process. If you are looking for quick and easy way to get your term and permanent business processed\, this could be a great fit for you. We will have Shane Twenhafel from Symetra joining us to do an overview of the platform and what products are available. This is one you don’t want to miss if you are looking for the most efficient ways to process life business. \n  \nThis webinar is concluded\, we have a recording of the webinar click here to view.
URL:https://www.orgcorp.com/event/symetras-swift-process/
ATTACH;FMTTYPE=image/png:https://www.orgcorp.com/wp-content/uploads/2025/01/Life.png
END:VEVENT
BEGIN:VEVENT
DTSTART;TZID=America/Indiana/Indianapolis:20250312T140000
DTEND;TZID=America/Indiana/Indianapolis:20250312T143000
DTSTAMP:20260425T140653
CREATED:20250312T185113Z
LAST-MODIFIED:20250312T185113Z
UID:1795-1741788000-1741789800@www.orgcorp.com
SUMMARY:Guaranteed Lifetime Income
DESCRIPTION:Join us as Caleb Smith\, Director of Annuity\, ORG discusses Guaranteed Lifetime Income. \nIn this webinar we will discuss: \n-How an income rider is designed\n-What income rider is best for your client\n-Guaranteed Income + Accumulation \nThis webinar is concluded\, we have a recording of the webinar click here to view.
URL:https://www.orgcorp.com/event/guaranteed-lifetime-income/
ATTACH;FMTTYPE=image/png:https://www.orgcorp.com/wp-content/uploads/2025/01/Annuity.png
END:VEVENT
BEGIN:VEVENT
DTSTART;TZID=America/Indiana/Indianapolis:20250319T140000
DTEND;TZID=America/Indiana/Indianapolis:20250319T143000
DTSTAMP:20260425T140653
CREATED:20250321T142734Z
LAST-MODIFIED:20250321T143041Z
UID:1804-1742392800-1742394600@www.orgcorp.com
SUMMARY:Participating Income
DESCRIPTION:Join us as Caleb Smith\, Director of Annuity\, ORG discusses Participating Income. \nIn this webinar we will discuss: \nWhat is participating income?\nWhat client is a good fit for participating income.\nThe power of increasing income. \nThis webinar is concluded\, we have a recording of the webinar click here to view.
URL:https://www.orgcorp.com/event/1804/
ATTACH;FMTTYPE=image/png:https://www.orgcorp.com/wp-content/uploads/2025/01/Annuity.png
END:VEVENT
END:VCALENDAR