BEGIN:VCALENDAR
VERSION:2.0
PRODID:-//ORG Corp - ECPv6.15.20//NONSGML v1.0//EN
CALSCALE:GREGORIAN
METHOD:PUBLISH
X-WR-CALNAME:ORG Corp
X-ORIGINAL-URL:https://www.orgcorp.com
X-WR-CALDESC:Events for ORG Corp
REFRESH-INTERVAL;VALUE=DURATION:PT1H
X-Robots-Tag:noindex
X-PUBLISHED-TTL:PT1H
BEGIN:VTIMEZONE
TZID:America/Indiana/Indianapolis
BEGIN:DAYLIGHT
TZOFFSETFROM:-0500
TZOFFSETTO:-0400
TZNAME:EDT
DTSTART:20240310T070000
END:DAYLIGHT
BEGIN:STANDARD
TZOFFSETFROM:-0400
TZOFFSETTO:-0500
TZNAME:EST
DTSTART:20241103T060000
END:STANDARD
BEGIN:DAYLIGHT
TZOFFSETFROM:-0500
TZOFFSETTO:-0400
TZNAME:EDT
DTSTART:20250309T070000
END:DAYLIGHT
BEGIN:STANDARD
TZOFFSETFROM:-0400
TZOFFSETTO:-0500
TZNAME:EST
DTSTART:20251102T060000
END:STANDARD
BEGIN:DAYLIGHT
TZOFFSETFROM:-0500
TZOFFSETTO:-0400
TZNAME:EDT
DTSTART:20260308T070000
END:DAYLIGHT
BEGIN:STANDARD
TZOFFSETFROM:-0400
TZOFFSETTO:-0500
TZNAME:EST
DTSTART:20261101T060000
END:STANDARD
END:VTIMEZONE
BEGIN:VEVENT
DTSTART;TZID=America/Indiana/Indianapolis:20251104T140000
DTEND;TZID=America/Indiana/Indianapolis:20251104T143000
DTSTAMP:20260423T044900
CREATED:20251027T192558Z
LAST-MODIFIED:20251120T142038Z
UID:2083-1762264800-1762266600@www.orgcorp.com
SUMMARY:Planning for a Confident Retirement with CareMatters® Annuity
DESCRIPTION:Join us for a special Tuesday edition and discover how Nationwide CareMatters® Annuity can help your clients protect their retirement and prepare for long-term care needs. \nWhat You’ll Learn:\n• Why long-term care (LTC) planning is essential to retirement success\n• The advantages of a linked-benefit solution\n• How CareMatters Annuity delivers:\n– Simplicity – Easy funding options and streamlined underwriting\n– Guarantees – Fixed interest rate and principal protection\n– Flexibility – Cash indemnity benefits and international coverage\n• Why Nationwide is a trusted partner in LTC solutions \n  \nThis webinar has concluded. Click here to watch the recording.
URL:https://www.orgcorp.com/event/planning-for-a-confident-retirement-with-carematters-annuity/
ATTACH;FMTTYPE=image/png:https://www.orgcorp.com/wp-content/uploads/2025/01/Screenshot-2025-03-06-113610.png
END:VEVENT
BEGIN:VEVENT
DTSTART;TZID=America/Indiana/Indianapolis:20251105T140000
DTEND;TZID=America/Indiana/Indianapolis:20251105T143000
DTSTAMP:20260423T044900
CREATED:20251027T192712Z
LAST-MODIFIED:20251120T142418Z
UID:2085-1762351200-1762353000@www.orgcorp.com
SUMMARY:LTC Industry’s Historical Learning Curve + Exciting news from NGL
DESCRIPTION:Join us as we discuss about reasoning and history of how the LTC Industry has evolved from explosive growth\, it’s market contraction and now it’s resurgence – especially with the traditional space \nIn this webinar we will also discuss:\n– High level review of NGL’s new LTCi product set for release in early December\n– Review new updated features\n– Pricing comparison to key traditional competitors \n  \nThis webinar has concluded. Click Here to view the recording.
URL:https://www.orgcorp.com/event/ltc-industrys-historical-learning-curve-exciting-news-from-ngl/
ATTACH;FMTTYPE=image/png:https://www.orgcorp.com/wp-content/uploads/2025/01/Screenshot-2025-03-06-113610.png
END:VEVENT
BEGIN:VEVENT
DTSTART;TZID=America/Indiana/Indianapolis:20251112T140000
DTEND;TZID=America/Indiana/Indianapolis:20251112T143000
DTSTAMP:20260423T044900
CREATED:20251027T192846Z
LAST-MODIFIED:20251120T142531Z
UID:2087-1762956000-1762957800@www.orgcorp.com
SUMMARY:LifeCare with John Hancock
DESCRIPTION:Join us Wednesday as we discuss LifeCare with John Hancock. LifeCare offers a modern approach to Hybrid LTC. Learn about John Hancock’s innovative option to better keep up with long term care inflation and a product more clients find value in with a death benefit that grows along with the LTC benefits. LifeCare is a complete Longevity Planning product. \n  \nThis webinar has concluded. Click Here to watch the recording.
URL:https://www.orgcorp.com/event/lifecare-with-john-hancock/
ATTACH;FMTTYPE=image/png:https://www.orgcorp.com/wp-content/uploads/2025/01/Screenshot-2025-03-06-113610.png
END:VEVENT
BEGIN:VEVENT
DTSTART;TZID=America/Indiana/Indianapolis:20251119T140000
DTEND;TZID=America/Indiana/Indianapolis:20251119T143000
DTSTAMP:20260423T044900
CREATED:20251027T192944Z
LAST-MODIFIED:20251120T142622Z
UID:2089-1763560800-1763562600@www.orgcorp.com
SUMMARY:Asset Flex with New York Life
DESCRIPTION:Join us Wednesday as we discuss Asset Flex with New York Life. We will take a deeper dive into the hybrid long term care product and show all of the great benefits that it has to offer. \n  \nThis webinar has concluded. Click Here to view the recording.
URL:https://www.orgcorp.com/event/asset-flex-with-new-york-life/
ATTACH;FMTTYPE=image/png:https://www.orgcorp.com/wp-content/uploads/2025/01/Screenshot-2025-03-06-113610.png
END:VEVENT
END:VCALENDAR